Workbook

Sheet Activiteiten
B1: Namen van team: | C1: Beoordeing
B4: Een spel bedenken en een idee vastleggen
B6: Wensen en eisen van een opdrachtgever inventariseren
B7: de opdracht in eigen woorden beschrijven | C7: Leeg | D7: =VLOOKUP(C:C,Data!$C$3:$D$13,2,FALSE) -> 0
B8: vanuit de opdrachtomschrijving een helder beeld krijgen van de wensen eneisen waaraan de opdracht moet voldoen | C8: Leeg | D8: =VLOOKUP(C:C,Data!$C$3:$D$13,2,FALSE) -> 0
B9: onduidelijkheden rondom de wensen en opdracht(eisen) in eigen woorden omschrijven en om opheldering vragen | C9: Leeg | D9: =VLOOKUP(C:C,Data!$C$3:$D$13,2,FALSE) -> 0
B10: een lijst opstellen van de wensen en eisen (inventarisatie) | C10: Leeg | D10: =VLOOKUP(C:C,Data!$C$3:$D$13,2,FALSE) -> 0
B11: door middel van een inventarisatie de belangrijkste uitgangspunten voor het spel helder krijgen. - het doel - de doelgroep (leeftijd, soort speler, etc.) - speltype | C11: Leeg | D11: =VLOOKUP(C:C,Data!$C$3:$D$13,2,FALSE) -> 0
B12: aan de hand van deze inventarisatie belangrijke zaken binnen de technische uitwerking helder krijgen. Hierbij lettend op haalbaarheid en technische (on)mogelijkheden. | C12: Leeg | D12: =VLOOKUP(C:C,Data!$C$3:$D$13,2,FALSE) -> 0
D13: =VLOOKUP(C:C,Data!$C$3:$D$13,2,FALSE) -> #N/A
B14: Wensen en eisen van een opdrachtgever inventariseren
B15: de wensen en eisen waaraan de opdracht moet voldoen in eigen woorden beschrijven. Hierbij zijn de belangrijkste uitgangspunten voor het spel helder zoals: - het doel - de doelgroep (leeftijd, soort speler, etc.) - speltype | C15: Leeg | D15: =VLOOKUP(C:C,Data!$C$3:$D$13,2,FALSE) -> 0
B16: oriënterend onderzoek doen voor het ontwikkelen van eigen wensen en eisen voor een game. (bijvoorbeeld in de vorm van een brainstorm, moodboard, ideeën blad, beeldend vooronderzoek). | C16: Leeg | D16: =VLOOKUP(C:C,Data!$C$3:$D$13,2,FALSE) -> 0
B17: de sfeer en vormgeving voor een spel bepalen rekening houdend met doel en doelgroep | C17: Leeg | D17: =VLOOKUP(C:C,Data!$C$3:$D$13,2,FALSE) -> 0
B18: door middel van een inventarisatie zichtbaar maken wat de spelmogelijkheden zijn en welk besturingssysteem gebruikt gaat worden | C18: Leeg | D18: =VLOOKUP(C:C,Data!$C$3:$D$13,2,FALSE) -> 0
B20: Eigen wensen en eisen spel opstellen
B21: keuzes maken voor een spelidee en de keuzes beargumenteren. Hierbij rekening houden met: - characters, landscapes, attributen en levels - het spelelement - doelen | C21: Leeg | D21: =VLOOKUP(C:C,Data!$C$3:$D$13,2,FALSE) -> 0
B22: aan de hand van een idee een (visuele) presentatie maken. (bijvoorbeeld in de vorm van een pitch, moodboard, ideeën blad). Denk daarbij aan: - onderzoek en idee-ontwikkeling - schetsen - beeldonderzoek en inspiratiebronnen - overleg/feedback opdrachtgever - gemaakte keuzes toelichten | C22: Leeg | D22: =VLOOKUP(C:C,Data!$C$3:$D$13,2,FALSE) -> 0
B24: Een idee overbrengen
B25: keuzes maken voor een gameplay rekening houdend met: - spelelement - de doelgroep - beschikbare ontwerpprogramma’s of besturingssysteem - de beoogde speelervaring (vorm, verhaallijn, characters) - technische (on)mogelijkheden en haalbaarheid | C25: Leeg | D25: =VLOOKUP(C:C,Data!$C$3:$D$13,2,FALSE) -> 0
B26: keuzes voor een gameplay beargumenteren: - welk spelelement wordt uitgewerkt - duidelijke onderbouwing van de doelgroep - gekozen ontwerpprogramma’s/besturingssysteem - De beoogde speelervaring van de speler (vorm, verhaallijn, characters) - Technische uitwerking van het spel | C26: Leeg | D26: =VLOOKUP(C:C,Data!$C$3:$D$13,2,FALSE) -> 0
B28: een onderbouwde keuze van een gameplay maken
B29: een sfeer van het spel aan een board (van opdrachtgevers) presenteren en de keuzes die gemaakt zijn in de ontwerpfase toelichten. Denk aan visuele onderbouwing van schetsontwerpen, moodboard, onderzoek, inspiratiebronnen, mindmap | C29: Leeg | D29: =VLOOKUP(C:C,Data!$C$3:$D$13,2,FALSE) -> 0
B30: argumenten noemen en toelichten voor de gemaakte keuzes voor: - de spelmogelijkheden - de vormgeving - de gekozen software en eventueel besturingssysteem | C30: Leeg | D30: Leeg
B31: feedback op het idee ontvangen van een board en bij onduidelijkheden om opheldering vragen (feedback meenemen in de uitwerking). | C31: Leeg | D31: =VLOOKUP(C:C,Data!$C$3:$D$13,2,FALSE) -> 0
B33: Een game ontwerpen
B35: velden, characters en attributen bedenken en schetsen
B36: aan de hand van het idee de benodigde velden bedenken en schetsen | C36: Leeg | D36: =VLOOKUP(C:C,Data!$C$3:$D$13,2,FALSE) -> 0
B37: de voor het idee (en verhaallijn) benodigde characters bedenken en schetsen | C37: Leeg | D37: =VLOOKUP(C:C,Data!$C$3:$D$13,2,FALSE) -> 0
B38: de voor het idee (en verhaallijn) benodigde attributen bedenken en schetsen | C38: Leeg | D38: =VLOOKUP(C:C,Data!$C$3:$D$13,2,FALSE) -> 0
B40: een (fragment van een) spelverloop uitwerken in een storyboard
B41: aan de hand van het spelidee en de schetsen een (fragment van een) spelverloop, uitwerken in een storyboard. Hierin is rekening gehouden met: - het spelverloop weergegeven door middel van tekeningen - characters, attributen en velden herkenbaar weergegeven - informatie over de personages of landschap bijgevoegd (korte beschrijving en geschatte duur) - camerastandpunt van de speler (bv. over shoulder / first person of third person) - beweging van de camera, characters of attributen beschreven of weergeven met pijlen | C41: Leeg | D41: =VLOOKUP(C:C,Data!$C$3:$D$13,2,FALSE) -> 0
B43: interactie schetsen en ontwerpen
B44: game user Interface (GUI) en besturing schetsen, denk hierbij aan: - keyboard en/of mouse control - abilities/skills en vorderingen hierin - visuele veranderingen (bijvoorbeeld bij ‘hit’, ‘collect’, winnen, verliezen, etc…) - de manier waarop de doelen wel en niet behaald kunnen worden - interactie met attributen/characters | C44: Leeg | D44: =VLOOKUP(C:C,Data!$C$3:$D$13,2,FALSE) -> 0
B45: de interface en bijbehorende schermelementen schetsen. Denk hierbij aan; - levelaanduiding - levens - punten - verzamel items - inventory screen - map screen | C45: Leeg | D45: =VLOOKUP(C:C,Data!$C$3:$D$13,2,FALSE) -> 0
B47: bruikbare ontwerpen maken voor een spel (fragment)
B48: characters, attributen en velden digitaal uitwerken in een geschikt programma. Hierbij is rekening gehouden met: - bestandstype - formaat - eventueel werken in lagen - kleurgebruik - doel | C48: Leeg | D48: =VLOOKUP(C:C,Data!$C$3:$D$13,2,FALSE) -> 0
B49: alle losse elementen binnen de interface digitaal uitwerken in een geschikt programma. - schermelementen zoals: levelaanduiding, levens, punten, hints, etc… - tussentijdse informatie zoals: startscherm, level-up, game over of win, etc… | C49: Leeg | D49: =VLOOKUP(C:C,Data!$C$3:$D$13,2,FALSE) -> 0
B51: Een game maken
B53: Een game maken
...

Sheet Inzet
A1: Nummer | B1: Taak | C1: Beoordeling
B2: Inzet
A3: 1 | B3: Ik heb nieuwe dingen geleerd | C3: Leeg | D3: =VLOOKUP(C:C,Data!$C$3:$D$13,2,FALSE) -> 0
A4: 2 | B4: Ik heb nieuwe dingen gedaan | C4: Leeg | D4: =VLOOKUP(C:C,Data!$C$3:$D$13,2,FALSE) -> 0
A5: 3 | B5: Ik heb anderen geholpen met leren | C5: Leeg | D5: =VLOOKUP(C:C,Data!$C$3:$D$13,2,FALSE) -> 0
A6: 4 | B6: Ik heb anderen geholpen met doen | C6: Leeg | D6: =VLOOKUP(C:C,Data!$C$3:$D$13,2,FALSE) -> 0
A7: 5 | B7: Ik heb actief meegedaan | C7: Leeg | D7: =VLOOKUP(C:C,Data!$C$3:$D$13,2,FALSE) -> 0
A8: 6 | B8: Ik heb anderen geholpen om actief mee te doen | C8: Leeg | D8: =VLOOKUP(C:C,Data!$C$3:$D$13,2,FALSE) -> 0
A9: 7 | B9: Ik heb voldoende vragen gesteld | C9: Leeg | D9: =VLOOKUP(C:C,Data!$C$3:$D$13,2,FALSE) -> 0
A10: 8 | B10: Ik heb extra activiteiten gedaan boven de lesstof | C10: Leeg | D10: =VLOOKUP(C:C,Data!$C$3:$D$13,2,FALSE) -> 0
A11: 9 | B11: Ik heb gebruik gemaakt van de leermiddelen | C11: Leeg | D11: =VLOOKUP(C:C,Data!$C$3:$D$13,2,FALSE) -> 0
A12: 10 | B12: Ik heb anderen iets kunnen leren | C12: Leeg | D12: =VLOOKUP(C:C,Data!$C$3:$D$13,2,FALSE) -> 0

Sheet Data
B2: Code | C2: Omschrijving | D2: Cijfer | G2: percentage
B3: L | C3: Leeg | D3: 0 | G3: 2
B4: U | C4: Uitstekend/Uitmuntend | D4: 10 | G4: 1.9
B5: ZG | C5: Zeer goed | D5: 9 | G5: 1.8
B6: G | C6: Goed | D6: 8 | G6: 1.7
B7: RV | C7: Ruim voldoende | D7: 7 | G7: 1.6
B8: V | C8: Voldoende | D8: 6 | G8: 1.5
B9: M | C9: Matig | D9: 5 | G9: 1.4
B10: O | C10: Onvoldoende | D10: 4 | G10: 1.3
B11: RO | C11: Ruim onvoldoende | D11: 3 | G11: 1.2
B12: S | C12: Slecht | D12: 2 | G12: 1.1
B13: ZS | C13: Zeer slecht | D13: 1 | G13: 1
G14: 0.9
G15: 0.8
G16: 0.7
G17: 0.6
G18: 0.5
G19: 0.4
G20: 0.3
G21: 0.2
G22: 0.1
G23: 0
