Workbook

Sheet Kennis
B2: Categorie | C2: Beschrijving | D2: Naam
B3: Taak | D3: =IFERROR(AVERAGE(E45:E88),0) -> 0
C4: Productieprocessen, technische systemen en bronnen verklaren.
B5: Eindterm | C5: Relevante natuurkundige begrippen en principes en hun toepassingen in de industrie noemen.
B6: Uitwerking | C6: 1 de begrippen volume, massa en dichtheid gebruiken. | D6: Leeg | E6: =IFERROR(VLOOKUP(D:D,' Data '!$C:$D,2,FALSE),0) -> 0
B7: Uitwerking | C7: 2 uitleggen wat kracht en druk is. | D7: Leeg | E7: =IFERROR(VLOOKUP(D:D,' Data '!$C:$D,2,FALSE),0) -> 0
B8: Uitwerking | C8: 3 de begrippen temperatuur, warmte en warmteoverdracht uitleggen. | D8: Leeg | E8: =IFERROR(VLOOKUP(D:D,' Data '!$C:$D,2,FALSE),0) -> 0
B9: Uitwerking | C9: 4 uitleggen wat een faseovergang is en welke faseovergangen er zijn. | D9: Leeg | E9: =IFERROR(VLOOKUP(D:D,' Data '!$C:$D,2,FALSE),0) -> 0
B10: Eindterm | C10: Begrippen in de procesindustrie beschrijven.
B11: Uitwerking | C11: 1 uitleggen wat de procesindustrie is en voorbeelden van bedrijven noemen die tot de procesindustrie behoren. | D11: Leeg | E11: =IFERROR(VLOOKUP(D:D,' Data '!$C:$D,2,FALSE),0) -> 0
B12: Uitwerking | C12: 2 uitleggen wat een proces is. Onderscheid kunnen uitleggen tussen een continu- en een batchproces. | D12: Leeg | E12: =IFERROR(VLOOKUP(D:D,' Data '!$C:$D,2,FALSE),0) -> 0
B13: Uitwerking | C13: 3 uitleggen wat eenheidsbewerkingen zijn. Onderscheid kunnen aanbrengen in: mechanische eenheidsbewerkingen, fysische eenheidsbewerkingen, chemische eenheidsbewerkingen. | D13: Leeg | E13: =IFERROR(VLOOKUP(D:D,' Data '!$C:$D,2,FALSE),0) -> 0
B14: Uitwerking | C14: 4 uitleggen wat procesbeheersing is. Onderscheid kunnen uitleggen tussen: regelen, besturen, beveiligen, alarmeren. | D14: Leeg | E14: =IFERROR(VLOOKUP(D:D,' Data '!$C:$D,2,FALSE),0) -> 0
B15: Eindterm | C15: Typen van eenvoudige processchema’s lezen.
B16: Uitwerking | C16: 1 een blokschema lezen. | D16: Leeg | E16: =IFERROR(VLOOKUP(D:D,' Data '!$C:$D,2,FALSE),0) -> 0
B17: Uitwerking | C17: 2 een eenvoudig PFD of P&ID lezen. | D17: Leeg | E17: =IFERROR(VLOOKUP(D:D,' Data '!$C:$D,2,FALSE),0) -> 0
B18: Uitwerking | C18: 3 de gebruikte symbolen herkennen met behulp van een gegeven naslagwerk of tabellenboek. | D18: Leeg | E18: =IFERROR(VLOOKUP(D:D,' Data '!$C:$D,2,FALSE),0) -> 0
B19: Eindterm | C19: Meetinstrumenten gebruiken en beeldschermpresentaties aflezen.
B20: Uitwerking | C20: 1 uitleggen waarvoor we meetinstrumenten gebruiken. | D20: Leeg | E20: =IFERROR(VLOOKUP(D:D,' Data '!$C:$D,2,FALSE),0) -> 0
B21: Uitwerking | C21: 2 symbolen herkennen (m.b.v. een tabellenboek) die voor de meetinstrumenten op een beeldscherm worden gebruikt. | D21: Leeg | E21: =IFERROR(VLOOKUP(D:D,' Data '!$C:$D,2,FALSE),0) -> 0
B22: Uitwerking | C22: 3 een meter op de juiste manier aflezen. | D22: Leeg | E22: =IFERROR(VLOOKUP(D:D,' Data '!$C:$D,2,FALSE),0) -> 0
B23: Eindterm | C23: Werkingsprincipes en toepassingen van druk-, temperatuur-, niveau- en volumestroommeters noemen.
B24: Uitwerking | C24: 1 de werkingsprincipes en toepassing van drukmeters noemen. Het gaat daarbij om de veel voorkomende drukmeters: membraandrukmeters, bourdonbuisdrukmeters, elektronische drukmeters. | D24: Leeg | E24: =IFERROR(VLOOKUP(D:D,' Data '!$C:$D,2,FALSE),0) -> 0
B25: Uitwerking | C25: 2 de werkingsprincipes en toepassing van temperatuurmeters noemen. Het gaat daarbij om de meest voorkomende temperatuurmeter, de weerstandsthermometer (PT-100). | D25: Leeg | E25: =IFERROR(VLOOKUP(D:D,' Data '!$C:$D,2,FALSE),0) -> 0
B26: Uitwerking | C26: 3 de toepassing van niveaumeters noemen. | D26: Leeg | E26: =IFERROR(VLOOKUP(D:D,' Data '!$C:$D,2,FALSE),0) -> 0
B27: Uitwerking | C27: 4 de toepassing van volumestroommeters noemen. | D27: Leeg | E27: =IFERROR(VLOOKUP(D:D,' Data '!$C:$D,2,FALSE),0) -> 0
B28: Eindterm | C28: Typen opnemers noemen.
B29: Uitwerking | C29: 1 uitleggen wat een signaalgever is. | D29: Leeg | E29: =IFERROR(VLOOKUP(D:D,' Data '!$C:$D,2,FALSE),0) -> 0
B30: Uitwerking | C30: 2 de typen signaalgevers opnoemen: mechanische signaalgevers, contactloze signaalgevers. | D30: Leeg | E30: =IFERROR(VLOOKUP(D:D,' Data '!$C:$D,2,FALSE),0) -> 0
B31: Eindterm | C31: Principes van tweestanden- en van proportionele regelacties noemen.
B32: Uitwerking | C32: 1 uitleggen wat een regelaar is. | D32: Leeg | E32: =IFERROR(VLOOKUP(D:D,' Data '!$C:$D,2,FALSE),0) -> 0
B33: Uitwerking | C33: 2 de werking van een tweestandenregelaar uitleggen. | D33: Leeg | E33: =IFERROR(VLOOKUP(D:D,' Data '!$C:$D,2,FALSE),0) -> 0
B34: Uitwerking | C34: 3 uitleggen wat een proportionele regelaar is. | D34: Leeg | E34: =IFERROR(VLOOKUP(D:D,' Data '!$C:$D,2,FALSE),0) -> 0
B35: Eindterm | C35: Uitvoerorganen met bijbehorende vormen van bedieningsenergie noemen.
B36: Uitwerking | C36: 1 uitleggen wat een uitvoerorgaan is. Het gaat daarbij om: cilinders, motoren. | D36: Leeg | E36: =IFERROR(VLOOKUP(D:D,' Data '!$C:$D,2,FALSE),0) -> 0
B37: Uitwerking | C37: 2 de verschillende vormen van bedieningsenergie benoemen. Het gaat daarbij: pneumatische aandrijving, hydraulische aandrijving, elektrische aandrijving. | D37: Leeg | E37: =IFERROR(VLOOKUP(D:D,' Data '!$C:$D,2,FALSE),0) -> 0
B38: Uitwerking | C38: 3 uitleggen wat een corrigerend orgaan is. Het gaat daarbij om: regelklep, verwarmingselement. | D38: Leeg | E38: =IFERROR(VLOOKUP(D:D,' Data '!$C:$D,2,FALSE),0) -> 0
B39: Eindterm | C39: Een enkelvoudige regelkring verklaren.
B40: Uitwerking | C40: 1 de onderdelen van een regelkring benoemen. | D40: Leeg | E40: =IFERROR(VLOOKUP(D:D,' Data '!$C:$D,2,FALSE),0) -> 0
B41: Uitwerking | C41: 2 de werking van een eenvoudige regelkring uitleggen. | D41: Leeg | E41: =IFERROR(VLOOKUP(D:D,' Data '!$C:$D,2,FALSE),0) -> 0
...

Sheet Inzet
A2: Nummer | B2: Taak | C2: Naam | D2: =GEMIDDELDE(D4:D13)
C3: =IFERROR(AVERAGE(D5:D14),0) -> 0
B4: Inzet
A5: 1 | B5: Ik heb nieuwe dingen geleerd | C5: Leeg | D5: =IFERROR(VLOOKUP(C:C,' Data '!$C:$D,2,FALSE),0) -> 0
A6: 2 | B6: Ik heb nieuwe dingen gedaan | C6: Leeg | D6: =IFERROR(VLOOKUP(C:C,' Data '!$C:$D,2,FALSE),0) -> 0
A7: 3 | B7: Ik heb anderen geholpen met leren | C7: Leeg | D7: =IFERROR(VLOOKUP(C:C,' Data '!$C:$D,2,FALSE),0) -> 0
A8: 4 | B8: Ik heb anderen geholpen met doen | C8: Leeg | D8: =IFERROR(VLOOKUP(C:C,' Data '!$C:$D,2,FALSE),0) -> 0
A9: 5 | B9: Ik heb actief meegedaan | C9: Leeg | D9: =IFERROR(VLOOKUP(C:C,' Data '!$C:$D,2,FALSE),0) -> 0
A10: 6 | B10: Ik heb anderen geholpen om actief mee te doen | C10: Leeg | D10: =IFERROR(VLOOKUP(C:C,' Data '!$C:$D,2,FALSE),0) -> 0
A11: 7 | B11: Ik heb voldoende vragen gesteld | C11: Leeg | D11: =IFERROR(VLOOKUP(C:C,' Data '!$C:$D,2,FALSE),0) -> 0
A12: 8 | B12: Ik heb extra activiteiten gedaan boven de lesstof | C12: Leeg | D12: =IFERROR(VLOOKUP(C:C,' Data '!$C:$D,2,FALSE),0) -> 0
A13: 9 | B13: Ik heb gebruik gemaakt van de leermiddelen | C13: Leeg | D13: =IFERROR(VLOOKUP(C:C,' Data '!$C:$D,2,FALSE),0) -> 0
A14: 10 | B14: Ik heb anderen iets kunnen leren | C14: Leeg | D14: =IFERROR(VLOOKUP(C:C,' Data '!$C:$D,2,FALSE),0) -> 0
B47: cheese

Sheet Cijfers
E1: ED
B2: Docent % inzet | C2: Docent % cijfer | D2: Cijfer inzet | E2: Productieprocessen, technische systemen en bronnen verklaren. | F2: Cijfer T4-1 | G2: Een installatieproces monteren, bedienen en regelen. | H2: Cijfer P4-1 | I2: Een proces bewaken, storingen signaleren en verhelpen. | J2: Cijfer P4-2 | K2: Eindcijfer totaal
A3: Proces Techniek | E3: ED | G3: ED | I3: ED | K3: SE
A4: Weegfactor | D4: 1 | E4: 20 | F4: 0.2 | G4: 0.4 | H4: 0.4 | I4: 0.4 | J4: 0.4 | K4: 1
A5: Naam | B5: 0.7 | C5: 1 | D5: =Inzet!C$3*B5 -> 0 | E5: =Kennis!$D$3 -> 0 | F5: =((D5+E5)/2)*C5 -> 0 | G5: =Kennis!$D$42 -> 0 | H5: =((D5+G5)/2)*C5 -> 0 | I5: =Kennis!$D$65 -> 0 | J5: =((D5+I5)/2)*C5 -> 0 | K5: =(F5*0.2)+(H5*0.4)+(J5*0.4) -> 0

Sheet  Data 
B2: Code | C2: Omschrijving | D2: Cijfer | G2: percentage
B3: L | C3: Leeg | D3: 0 | G3: 2
B4: U | C4: Uitstekend/Uitmuntend | D4: 10 | G4: 1.9
B5: ZG | C5: Zeer goed | D5: 9 | G5: 1.8
B6: G | C6: Goed | D6: 8 | G6: 1.7
B7: RV | C7: Ruim voldoende | D7: 7 | G7: 1.6
B8: V | C8: Voldoende | D8: 6 | G8: 1.5
B9: M | C9: Matig | D9: 5 | G9: 1.4
B10: O | C10: Onvoldoende | D10: 4 | G10: 1.3
B11: RO | C11: Ruim onvoldoende | D11: 3 | G11: 1.2
B12: S | C12: Slecht | D12: 2 | G12: 1.1
B13: ZS | C13: Zeer slecht | D13: 1 | G13: 1
G14: 0.9
G15: 0.8
G16: 0.7
G17: 0.6
G18: 0.5
G19: 0.4
G20: 0.3
G21: 0.2
G22: 0.1
G23: 0
